BEGIN:VCALENDAR
VERSION:2.0
BEGIN:VEVENT
URL:https://razumiya.com/moia-stranitca/viewevent/v-mezhdunarodnyi-forum-innovatcionnoe-razvitie-cherez-rynok-intellektualnoi-sobstvennosti 
DTSTART:20130425T000000
DTEND:20130425T000000
SUMMARY:V МЕЖДУНАРОДНЫЙ ФОРУМ «ИННОВАЦИОННОЕ РАЗВИТИЕ ЧЕРЕЗ РЫНОК ИНТЕЛЛЕКТУАЛЬНОЙ СОБСТВЕННОСТИ»
DESCRIPTION:<p>
	<strong>В рамках  Форума :</strong><br />
	- презентация аналитического доклада «О состоянии правовой охраны и защиты интеллектуальной собственности в России и СНГ в 2012 году»;<br />
	- круглый стол «Интеллектуальные вызовы технологической модернизации в странах СНГ»;<br />
	- обмен опытом по формированию рынка интеллектуальной собственности, инновационной системы и подготовки инновационных кадров на основе корпоративных и государственных заказов;<br />
	- Московский молодежный студенческий форум «Молодежь для инновационного развития России»;<br />
	- дискуссия «Как умному стать богатым».</p>
LOCATION:г. Москва, Ленинградский проспект, 17
END:VEVENT
END:VCALENDAR