BEGIN:VCALENDAR
VERSION:2.0
BEGIN:VEVENT
URL:https://razumiya.com/moia-stranitca/viewevent/xiv-mezhdunarodnaia-nauchno-prakticheskaia-konferentciia-fundamentalnye-i-prikladnye-issledovaniia-razrabotka-i-primenenie-vysokikh-tekhnologii-v-promyshlennosti-i-ekonomike 
DTSTART:20121204T000000
DTEND:20121205T000000
SUMMARY:XIV международная научно-практическая конференция "Фундаментальные и прикладные исследования, разработка и применение высоких технологий в промышленности и экономике"
DESCRIPTION:<p>
	<span style="font-size: 16px;"><span style="font-family: times new roman,times,serif;">Главное направление тематики Конференции - анализ состояния и перспективы разработки и внедрения высоких технологий, результатов фундаментальных и прикладных исследований в различных областях науки, высшего и среднего образования, промышленности. Расширенный подход и комплексный научный анализ позволяют оценить состояние работ, разработать и реализовать оптимальные схемы и пути строительства и развития образования, фундаментальных и прикладных исследований, высоких технологий и высокотехнологической промышленности.<br />
	Основная цель Конференции &ndash; установление прямых контактов между учеными, бизнесменами и представителями правительственных и международных организаций, анализ состояния современной фундаментальной и прикладной науки, проблемы и перспективы её применения в промышленности.<br />
	В рамках Конференции предполагается организовать круглые столы, встречи и обсуждения в области патентоведения и коммерциализации интеллектуальной собственности, продвижения достижений фундаментальных и прикладных наук, образования и высоких технологий в промышленность с участием представителей государственных органов, бизнеса, потенциальных покупателей и инвесторов. По результатам Конференции выдаются сертификаты, вручаются дипломы.<br />
	В рамках работы Конференции пройдёт заседание Клуба Инноваторов &ndash; "Конкурс инновационных проектов". Победители конкурса будут награждены призами. </span></span></p>
LOCATION:Санкт-Петербург, Россия
END:VEVENT
END:VCALENDAR