BEGIN:VCALENDAR
VERSION:2.0
BEGIN:VEVENT
URL:https://razumiya.com/moia-stranitca/viewevent/khkhii-mezhdunarodnaia-nauchno-prakticheskaia-konferentciia-aktualnye-voprosy-intellektualnoi-sobstvennosti 
DTSTART:20140909T000000
DTEND:20140911T000000
SUMMARY:ХХII Международная научно-практическая конференция «Актуальные вопросы интеллектуальной собственности»
DESCRIPTION:<p>
	Основные тематические направления конференции:</p>
<p class="rteindent1">
	&bull; Усовершенствование механизмов использования объектов авторского права и смежных прав;</p>
<p class="rteindent1">
	&bull; Приобретение и охрана прав на объекты промышленной собственности в условиях адаптации национальной нормативно-правовой базы к стандартам ЕС;</p>
<p class="rteindent1">
	&bull; Практический опыт использования объектов интеллектуальной собственности в процессе хозяйственной и инновационной деятельности ведущими компаниями Украины и мира;</p>
<p class="rteindent1">
	&bull; Интеллектуальная собственность и конкуренция;</p>
<p class="rteindent1">
	&bull; Защита прав на объекты интеллектуальной собственности: применение криминальной ответственности за нарушения прав интеллектуальной собственности и защита прав на таможенной границе;</p>
<p class="rteindent1">
	&bull; Пути усовершенствования судебной системы в сфере интеллектуальной собственности в рамках проведения работы по гармонизации украинского законодательства с законодательством Европейского Союза;</p>
<p class="rteindent1">
	&bull; Проведение судебных экспертиз в процессе рассмотрения дел, связанных с защитой прав интеллектуальной собственности.</p>
LOCATION:Kyiv, Ukraine
END:VEVENT
END:VCALENDAR