BEGIN:VCALENDAR
VERSION:2.0
BEGIN:VEVENT
URL:https://razumiya.com/moia-stranitca/viewevent/x-international-scientific-conference-electronics-and-applied-physics 
DTSTART:20141022T000000
DTEND:20141025T000000
SUMMARY: X International Scientific Conference «Electronics and Applied Physics» 
DESCRIPTION:<h1 class="entry-title">
	Напрямки</h1>
<ol>
	<li>
		<a href="http://rpd.univ.kiev.ua/conference/ApPh/?page_id=466">Лазерна фізика і оптоелектроніка</a></li>
	<li>
		<a href="http://rpd.univ.kiev.ua/conference/ApPh/?page_id=449">Фізика магнітних явищ</a></li>
	<li>
		<a href="http://rpd.univ.kiev.ua/conference/ApPh/?page_id=471">Фізика поверхні, нано- та мікроелектроніка</a></li>
	<li>
		<a href="http://rpd.univ.kiev.ua/conference/ApPh/?page_id=376">Фізика напівпровідників та діелектриків, напівпровідникові прилади</a></li>
	<li>
		<a href="http://rpd.univ.kiev.ua/conference/ApPh/?page_id=387">Медична фізика</a></li>
	<li>
		<a href="http://rpd.univ.kiev.ua/conference/ApPh/?page_id=325">Фізика плазми</a></li>
	<li>
		<a href="http://rpd.univ.kiev.ua/conference/ApPh/?page_id=440">Комп'ютерна інженерія</a></li>
	<li>
		<a href="http://rpd.univ.kiev.ua/conference/ApPh/?page_id=461">Математичні проблеми прикладної фізики</a></li>
	<li>
		<a href="http://rpd.univ.kiev.ua/conference/ApPh/?page_id=485">Радіотехніка та телекомунікації</a></li>
	<li>
		<a href="http://rpd.univ.kiev.ua/conference/ApPh/?page_id=37">Поляриметрія: теорія і застосування</a></li>
</ol>
LOCATION:Kiev, Ukraine
END:VEVENT
END:VCALENDAR